BEGIN:VCALENDAR
VERSION:2.0
PRODID:Events Booking
BEGIN:VEVENT
UID:69e7e69cb8902
SUMMARY:MND Upskill: Living and working with MND - ACT
DESCRIPTION:This event is for people living with MND\, their informal suppo
 rt network (such as family and friends)\, and the health and community car
 e professionals.&nbsp\;
 &nbsp\;
LOCATION:110 Gundaroo Dr\, Nicholls ACT 2913
DTSTART:20260629T233000Z
DTEND:20260630T060000Z
DTSTAMP:20260406T145514Z
ORGANIZER;CN=MNDNSW Website - Events:MAILTO:info@mndnsw.org.au
GEO:-35.186349;149.117018
X-APPLE-STRUCTURED-LOCATION;VALUE=URI;X-ADDRESS=110 Gundaroo Dr\, Nicholls 
 ACT 2913;X-APPLE-RADIUS=72;X-TITLE=Gungahlin Lakes Golf & Community Club:-
 35.186349;149.117018
END:VEVENT
END:VCALENDAR