BEGIN:VCALENDAR
VERSION:2.0
PRODID:Events Booking
BEGIN:VEVENT
UID:69e82969534d3
SUMMARY:30th International Symposium on ALS/MND
DESCRIPTION:The 30th International Symposium is the&nbsp\;largest medical a
 nd scientific conference specific to MND/ALS and is the premier event in t
 he MND research calendar for discussion on the latest advances in research
  and clinical management. This year the Symposium will be held in Perth\, 
 Australia on 4-6 December 2019.
LOCATION:21 Mounts Bay Road\, Perth
DTSTART:20191203T210000Z
DTEND:20191206T060000Z
DTSTAMP:20260422T015033Z
ORGANIZER;CN=MNDNSW Website - Events:MAILTO:info@mndnsw.org.au
GEO:-31.956505;115.852161
X-APPLE-STRUCTURED-LOCATION;VALUE=URI;X-ADDRESS=21 Mounts Bay Road\, Perth;
 X-APPLE-RADIUS=72;X-TITLE=Perth Convention and Exhibition Centre:-31.95650
 5;115.852161
END:VEVENT
END:VCALENDAR