BEGIN:VCALENDAR
VERSION:2.0
PRODID:Events Booking
BEGIN:VEVENT
UID:69e856bf3eb9c
SUMMARY:29th International Symposium on ALS/MND
DESCRIPTION:The 29th International Symposium is the&nbsp\;largest medical a
 nd scientific conference specific to MND/ALS and is the premier event in t
 he MND research calendar for discussion on the latest advances in research
  and clinical management.
LOCATION:SEC Armadillo\, Exhibition Way\, Glasgow G3 8YW\, United Kingdom
DTSTART:20181206T210000Z
DTEND:20181209T060000Z
DTSTAMP:20260422T050359Z
ORGANIZER;CN=MNDNSW Website - Events:MAILTO:info@mndnsw.org.au
GEO:55.859611;-4.287779
X-APPLE-STRUCTURED-LOCATION;VALUE=URI;X-ADDRESS=SEC Armadillo\, Exhibition 
 Way\, Glasgow G3 8YW\, United Kingdom;X-APPLE-RADIUS=72;X-TITLE=Scottish E
 vent Campus (SEC) Glasgow:55.859611;-4.287779
END:VEVENT
END:VCALENDAR