BEGIN:VCALENDAR
VERSION:2.0
PRODID:Events Booking
BEGIN:VEVENT
UID:69ebb3fe9b068
SUMMARY:MND Fundraiser - Cancelled
DESCRIPTION:Due to unforseen circumstances this event has been cancelled.
DTSTART:20190330T080000Z
DTSTAMP:20260424T181838Z
ORGANIZER;CN=MNDNSW Website - Events:MAILTO:info@mndnsw.org.au
END:VEVENT
END:VCALENDAR